BEGIN:VCALENDAR
PRODID:brasil.gov.agenda
VERSION:1.0
BEGIN:VEVENT
DTSTART:20210712T080000Z
DTEND:20210712T100000Z
DCREATED:20210712T111559Z
UID:Compromisso-3ecbfdd2dc3c4487b36da9d03e0979fb
SEQUENCE:0
LAST-MODIFIED:20210712T111743Z
SUMMARY:Reunião do Comitê de Governança\, Integridade\, Riscos e Controles Internos (CGIRC)
LOCATION:Compromisso on-line
PRIORITY:3
TRANSP:0
END:VEVENT
END:VCALENDAR
