BEGIN:VCALENDAR
PRODID:brasil.gov.agenda
VERSION:1.0
BEGIN:VEVENT
DTSTART:20210712T100000Z
DTEND:20210712T120000Z
DCREATED:20210712T113750Z
UID:Compromisso-7bdc3515b3364702bc2d563318099eb8
SEQUENCE:0
LAST-MODIFIED:20210712T113811Z
SUMMARY:Reunião com Pró-reitores e Diretores
DESCRIPTION:Planejamento de Execução do Orçamento 2021
LOCATION:Compromisso on-line
PRIORITY:3
TRANSP:0
END:VEVENT
END:VCALENDAR
