BEGIN:VCALENDAR
PRODID:brasil.gov.agenda
VERSION:1.0
BEGIN:VEVENT
DTSTART:20210712T140000Z
DTEND:20210712T180000Z
DCREATED:20210712T111641Z
UID:Compromisso-a79fbef5ad2d48f1900acebbef27831d
SEQUENCE:0
LAST-MODIFIED:20210712T111756Z
SUMMARY:Despachos Internos
LOCATION:Reitoria
PRIORITY:3
TRANSP:0
END:VEVENT
END:VCALENDAR
