BEGIN:VCALENDAR
PRODID:brasil.gov.agenda
VERSION:1.0
BEGIN:VEVENT
DTSTART:20210709T140000Z
DTEND:20210709T150000Z
DCREATED:20210709T161753Z
UID:Compromisso-2f00d1ce443149209b78c0a8d599ca77
SEQUENCE:0
LAST-MODIFIED:20210709T161753Z
SUMMARY:Reunião com o Diretor Presidente da Funarbe
DESCRIPTION:Parcerias futuras entre a UFVJM e a Funarbe
LOCATION:Compromisso on-line
PRIORITY:3
TRANSP:0
END:VEVENT
END:VCALENDAR
