BEGIN:VCALENDAR
PRODID:brasil.gov.agenda
VERSION:1.0
BEGIN:VEVENT
DTSTART:20210709T080000Z
DTEND:20210709T090000Z
DCREATED:20210709T161300Z
UID:Compromisso-40c0c82c73a5417ab18e477701872ee0
SEQUENCE:0
LAST-MODIFIED:20210709T161814Z
SUMMARY:Despachos Internos
LOCATION:Reitoria
PRIORITY:3
TRANSP:0
END:VEVENT
END:VCALENDAR
