BEGIN:VCALENDAR
PRODID:brasil.gov.agenda
VERSION:1.0
BEGIN:VEVENT
DTSTART:20210708T080000Z
DTEND:20210708T120000Z
DCREATED:20210709T161934Z
UID:Compromisso-94b3d9fa328d4ea78f44847add0c8ccd
SEQUENCE:0
LAST-MODIFIED:20210709T161934Z
SUMMARY:Despachos Internos
LOCATION:Reitoria
PRIORITY:3
TRANSP:0
END:VEVENT
END:VCALENDAR
