BEGIN:VCALENDAR
PRODID:brasil.gov.agenda
VERSION:1.0
BEGIN:VEVENT
DTSTART:20210706T140000Z
DTEND:20210706T180000Z
DCREATED:20210706T112216Z
UID:Compromisso-da0a095236ba444cb8276ca50499ec96
SEQUENCE:0
LAST-MODIFIED:20210707T171418Z
SUMMARY:Despachos Internos
LOCATION:Reitoria
PRIORITY:3
TRANSP:0
END:VEVENT
END:VCALENDAR
