BEGIN:VCALENDAR
PRODID:brasil.gov.agenda
VERSION:1.0
BEGIN:VEVENT
DTSTART:20210705T080000Z
DTEND:20210705T000000Z
DCREATED:20210705T115204Z
UID:Compromisso-5f3059bd991b4bab81ae5e9f596e93ac
SEQUENCE:0
LAST-MODIFIED:20210705T115204Z
SUMMARY:Reunião com Pró-reitores e Diretores
DESCRIPTION:Execução do Planejamento de Obras e Pessoal de Apoio
LOCATION:Compromisso on-line
PRIORITY:3
TRANSP:0
END:VEVENT
END:VCALENDAR
