BEGIN:VCALENDAR
PRODID:brasil.gov.agenda
VERSION:1.0
BEGIN:VEVENT
DTSTART:20210702T100000Z
DTEND:20210702T110000Z
DCREATED:20210702T115148Z
UID:Compromisso-28b0c14c4afa460996f80fdac5451ba5
SEQUENCE:0
LAST-MODIFIED:20210702T115327Z
SUMMARY:Reunião no Ministério da Educação (MEC)
DESCRIPTION:Reestruturação administrativa e do ensino da UFVJM
LOCATION:Brasília - DF - Esplanada dos Ministérios
PRIORITY:3
TRANSP:0
END:VEVENT
END:VCALENDAR
