BEGIN:VCALENDAR
PRODID:brasil.gov.agenda
VERSION:1.0
BEGIN:VEVENT
DTSTART:20210702T110000Z
DTEND:20210702T120000Z
DCREATED:20210701T180111Z
UID:Compromisso-26797bd30682486e9dfb1ddfe5d68113
SEQUENCE:0
LAST-MODIFIED:20210702T113717Z
SUMMARY:Reunião na Coordenação de Aperfeiçoamento de Pessoal de Nível Superior
DESCRIPTION:Projeto de Extensão: Apoio pedagógico à distância para
  estudantes do 3o ano do Ensino Médio do Estado de Minas Gerais\, na 
 área de abrangência da UFVJM\;\n\nPolíticas de Pós-Graduação.
LOCATION:Brasília - DF
PRIORITY:3
TRANSP:0
END:VEVENT
END:VCALENDAR
