BEGIN:VCALENDAR
PRODID:brasil.gov.agenda
VERSION:1.0
BEGIN:VEVENT
DTSTART:20210701T170000Z
DTEND:20210701T180000Z
DCREATED:20210701T180514Z
UID:Compromisso-aa127193fd14425490e937db37b9397b
SEQUENCE:0
LAST-MODIFIED:20210701T180618Z
SUMMARY:Reunião no Ministério do Desenvolvimento Regional
LOCATION:Brasília - DF
PRIORITY:3
TRANSP:0
END:VEVENT
END:VCALENDAR
