BEGIN:VCALENDAR
PRODID:brasil.gov.agenda
VERSION:1.0
BEGIN:VEVENT
DTSTART:20210630T160000Z
DTEND:20210630T170000Z
DCREATED:20210630T164152Z
UID:Compromisso-a669bd91cac34208a47e31fcd3388ac4
SEQUENCE:0
LAST-MODIFIED:20210630T164152Z
SUMMARY:Reunião no Ministério da Saúde
DESCRIPTION:Parcerias da UFVJM e Ministério da Saúde envolvendo vár
 ias especialidades da saúde
LOCATION:Brasília - DF - Esplanada dos Ministérios,
PRIORITY:3
TRANSP:0
END:VEVENT
END:VCALENDAR
