BEGIN:VCALENDAR
PRODID:brasil.gov.agenda
VERSION:1.0
BEGIN:VEVENT
DTSTART:20210629T103000Z
DTEND:20210629T000000Z
DCREATED:20210629T113205Z
UID:Compromisso-3b2f20abf57d459fb96383ede395d203
SEQUENCE:0
LAST-MODIFIED:20210629T113205Z
SUMMARY:Deslocamento para Brasília/DF
LOCATION:Em trânsito
PRIORITY:3
TRANSP:0
END:VEVENT
END:VCALENDAR
