BEGIN:VCALENDAR
PRODID:brasil.gov.agenda
VERSION:1.0
BEGIN:VEVENT
DTSTART:20210628T080000Z
DTEND:20210628T090000Z
DCREATED:20210628T115653Z
UID:Compromisso-0f59aab91dc34768b60e6abe11feefd6
SEQUENCE:0
LAST-MODIFIED:20210628T115653Z
SUMMARY:Visita ao Anexo VI do Campus JK
DESCRIPTION:Projeto - Obra de Adequação
LOCATION:Reitoria
PRIORITY:3
TRANSP:0
END:VEVENT
END:VCALENDAR
