BEGIN:VCALENDAR
PRODID:brasil.gov.agenda
VERSION:1.0
BEGIN:VEVENT
DTSTART:20210628T090000Z
DTEND:20210628T120000Z
DCREATED:20210628T115737Z
UID:Compromisso-906b1529bb9c4e16bc4a9437a1dd5716
SEQUENCE:0
LAST-MODIFIED:20210628T115737Z
SUMMARY:Despachos Internos
LOCATION:Reitoria
PRIORITY:3
TRANSP:0
END:VEVENT
END:VCALENDAR
