BEGIN:VCALENDAR
PRODID:brasil.gov.agenda
VERSION:1.0
BEGIN:VEVENT
DTSTART:20210628T140000Z
DTEND:20210628T160000Z
DCREATED:20210628T120359Z
UID:Compromisso-5decc22777ba4b09af617a48211d7bd3
SEQUENCE:0
LAST-MODIFIED:20210628T120423Z
SUMMARY:Defesa de Memorial
DESCRIPTION:Progressão Professor Titular
LOCATION:Reitoria
PRIORITY:3
TRANSP:0
END:VEVENT
END:VCALENDAR
