BEGIN:VCALENDAR
PRODID:brasil.gov.agenda
VERSION:1.0
BEGIN:VEVENT
DTSTART:20210625T080000Z
DTEND:20210625T090000Z
DCREATED:20210625T113320Z
UID:Compromisso-7f148377fb6a47d18532973dfee2f26a
SEQUENCE:0
LAST-MODIFIED:20210625T113438Z
SUMMARY:Reunião com Comissão Eleitoral
DESCRIPTION:Escolha de representantes no Conselho de Integração Comu
 nitária da UFVJM
LOCATION:Compromisso on-line
PRIORITY:3
TRANSP:0
END:VEVENT
END:VCALENDAR
