BEGIN:VCALENDAR
PRODID:brasil.gov.agenda
VERSION:1.0
BEGIN:VEVENT
DTSTART:20210625T090000Z
DTEND:20210625T110000Z
DCREATED:20210625T115137Z
UID:Compromisso-d3b3af812df749dfabd8e6c768757e6a
SEQUENCE:0
LAST-MODIFIED:20210625T115204Z
SUMMARY:Reunião com a Comissão de Dimensionamento e Alocação de Vagas Docentes
DESCRIPTION:Critérios para Distribuição da Vaga Docente
LOCATION:Compromisso on-line
PRIORITY:3
TRANSP:0
END:VEVENT
END:VCALENDAR
