BEGIN:VCALENDAR
PRODID:brasil.gov.agenda
VERSION:1.0
BEGIN:VEVENT
DTSTART:20210622T080000Z
DTEND:20210622T100000Z
DCREATED:20210622T110425Z
UID:Compromisso-32f8182b13c048d78f0b8422ed825f25
SEQUENCE:0
LAST-MODIFIED:20210622T110803Z
SUMMARY:Reunião com Pró-reitores e Diretores
DESCRIPTION:Planejamento das aulas práticas presenciais dos campi da 
 UFVJM
LOCATION:Reitoria
PRIORITY:3
TRANSP:0
END:VEVENT
END:VCALENDAR
