BEGIN:VCALENDAR
PRODID:brasil.gov.agenda
VERSION:1.0
BEGIN:VEVENT
DTSTART:20210621T100000Z
DTEND:20210621T120000Z
DCREATED:20210621T112814Z
UID:Compromisso-c12f819ff48d4cd7b76dbcc5ee28d943
SEQUENCE:0
LAST-MODIFIED:20210621T112814Z
SUMMARY:Webnário sobre o inventário dos bens móveis permanentes da UFVJM
LOCATION:Compromisso on-line
PRIORITY:3
TRANSP:0
END:VEVENT
END:VCALENDAR
