BEGIN:VCALENDAR
PRODID:brasil.gov.agenda
VERSION:1.0
BEGIN:VEVENT
DTSTART:20210621T080000Z
DTEND:20210621T090000Z
DCREATED:20210621T112438Z
UID:Compromisso-ef447a2e5c02474984a4cea49754ee8c
SEQUENCE:0
LAST-MODIFIED:20210621T112523Z
SUMMARY:Reunião com a Direção da Faculdade de Ciências Agrárias - FCA
DESCRIPTION:Planejamento de obras e manutenção
LOCATION:Reitoria
PRIORITY:3
TRANSP:0
END:VEVENT
END:VCALENDAR
