BEGIN:VCALENDAR
PRODID:brasil.gov.agenda
VERSION:1.0
BEGIN:VEVENT
DTSTART:20210618T080000Z
DTEND:20210618T090000Z
DCREATED:20210618T130000Z
UID:Compromisso-f540b625cc404295af8956a1bf6d3393
SEQUENCE:0
LAST-MODIFIED:20210618T131828Z
SUMMARY:Reunião com pró-reitorias
DESCRIPTION:Discussão de projeto relacionado a saúde do idoso com o 
 Ministério de Estado da Mulher\, da Família e dos Direitos Humanos
LOCATION:Reitoria
PRIORITY:3
TRANSP:0
END:VEVENT
END:VCALENDAR
