BEGIN:VCALENDAR
PRODID:brasil.gov.agenda
VERSION:1.0
BEGIN:VEVENT
DTSTART:20210618T160000Z
DTEND:20210618T170000Z
DCREATED:20210618T131006Z
UID:Compromisso-462ed7d6cf7a4f28ad4fc84f6ce7bd6e
SEQUENCE:0
LAST-MODIFIED:20210618T131908Z
SUMMARY:Reunião com pró-reitorias
DESCRIPTION:Discussão de projeto relacionado a esporte com o Ministé
 rio de Estado da Mulher\, da Família e dos Direitos Humanos
LOCATION:Reitoria
PRIORITY:3
TRANSP:0
END:VEVENT
END:VCALENDAR
