BEGIN:VCALENDAR
PRODID:brasil.gov.agenda
VERSION:1.0
BEGIN:VEVENT
DTSTART:20210618T103000Z
DTEND:20210618T120000Z
DCREATED:20210618T131727Z
UID:Compromisso-46e790f9d7354a928997d52ecfa2bebe
SEQUENCE:0
LAST-MODIFIED:20210618T131855Z
SUMMARY:Reunião com pró-reitoria e diretoria
DESCRIPTION:Preparação de Webnário - Inventário de bens móveis
LOCATION:Compromisso on-line
PRIORITY:3
TRANSP:0
END:VEVENT
END:VCALENDAR
