BEGIN:VCALENDAR
PRODID:brasil.gov.agenda
VERSION:1.0
BEGIN:VEVENT
DTSTART:20210618T100000Z
DTEND:20210618T110000Z
DCREATED:20210618T131218Z
UID:Compromisso-21c0f2089e574ac1935cf98fff3210de
SEQUENCE:0
LAST-MODIFIED:20210618T131842Z
SUMMARY:Abertura do evento Recepção à Comunidade Acadêmica da UFVJM
LOCATION:Compromisso on-line
PRIORITY:3
TRANSP:0
END:VEVENT
END:VCALENDAR
