BEGIN:VCALENDAR
PRODID:brasil.gov.agenda
VERSION:1.0
BEGIN:VEVENT
DTSTART:20210617T083000Z
DTEND:20210617T120000Z
DCREATED:20210617T114640Z
UID:Compromisso-ccd385149a2a410dada62e75ba4fc844
SEQUENCE:0
LAST-MODIFIED:20210617T114641Z
SUMMARY:243ª reunião\, sendo a 143ª sessão em caráter ordinário do CONSU
LOCATION:Compromisso on-line
PRIORITY:3
TRANSP:0
END:VEVENT
END:VCALENDAR
