BEGIN:VCALENDAR
PRODID:brasil.gov.agenda
VERSION:1.0
BEGIN:VEVENT
DTSTART:20210616T150000Z
DTEND:20210616T160000Z
DCREATED:20210616T123725Z
UID:Compromisso-21c5a99933144b14ab18ec1e21f716e4
SEQUENCE:0
LAST-MODIFIED:20210616T123725Z
SUMMARY:Reunião com o Instituto Nacional de Telecomunicações (Inatel)
DESCRIPTION:Parceria interinstitucional entre o Governo do Estado de M
 inas Gerais\, INATEL\, UFVJM e o Município de Diamantina
LOCATION:Compromisso on-line
PRIORITY:3
TRANSP:0
END:VEVENT
END:VCALENDAR
