BEGIN:VCALENDAR
PRODID:brasil.gov.agenda
VERSION:1.0
BEGIN:VEVENT
DTSTART:20210616T160000Z
DTEND:20210616T163000Z
DCREATED:20210617T114253Z
UID:Compromisso-019641af025b4915ac9c52bca4fffc9c
SEQUENCE:0
LAST-MODIFIED:20210617T114401Z
SUMMARY:Reunião com o Diretoria de Convênios e Projetos
DESCRIPTION:Demanda da diretoria
LOCATION:Reitoria
PRIORITY:3
TRANSP:0
END:VEVENT
END:VCALENDAR
