BEGIN:VCALENDAR
PRODID:brasil.gov.agenda
VERSION:1.0
BEGIN:VEVENT
DTSTART:20210616T140000Z
DTEND:20210616T150000Z
DCREATED:20210616T123150Z
UID:Compromisso-e031c7ab80714bffa1ca72bbc4f9b634
SEQUENCE:0
LAST-MODIFIED:20210616T123941Z
SUMMARY:Reunião com a Secretaria de Processo Administrativo (SecPad)
DESCRIPTION:Demandas internas
LOCATION:Reitoria
PRIORITY:3
TRANSP:0
END:VEVENT
END:VCALENDAR
