BEGIN:VCALENDAR
PRODID:brasil.gov.agenda
VERSION:1.0
BEGIN:VEVENT
DTSTART:20210616T170000Z
DTEND:20210616T180000Z
DCREATED:20210616T123905Z
UID:Compromisso-ac213f337b4042698a9e2f727e4bcdd3
SEQUENCE:0
LAST-MODIFIED:20210617T114417Z
SUMMARY:Reunião com a Diretoria de Tecnologia da Informação (DTI) e Pró-reitoria
DESCRIPTION:Demanda de sistemas
LOCATION:Reitoria
PRIORITY:3
TRANSP:0
END:VEVENT
END:VCALENDAR
