BEGIN:VCALENDAR
PRODID:brasil.gov.agenda
VERSION:1.0
BEGIN:VEVENT
DTSTART:20210616T080000Z
DTEND:20210616T120000Z
DCREATED:20210617T114000Z
UID:Compromisso-e845c408f72944e79b485456f9cf51c8
SEQUENCE:0
LAST-MODIFIED:20210617T114000Z
SUMMARY:Despachos Internos
LOCATION:Reitoria
PRIORITY:3
TRANSP:0
END:VEVENT
END:VCALENDAR
