BEGIN:VCALENDAR
PRODID:brasil.gov.agenda
VERSION:1.0
BEGIN:VEVENT
DTSTART:20210614T080000Z
DTEND:20210614T120000Z
DCREATED:20210614T143033Z
UID:Compromisso-33442913244e4c3ab8c012a30e88c478
SEQUENCE:0
LAST-MODIFIED:20210614T143033Z
SUMMARY:Despachos Internos
LOCATION:Reitoria
PRIORITY:3
TRANSP:0
END:VEVENT
END:VCALENDAR
