BEGIN:VCALENDAR
PRODID:brasil.gov.agenda
VERSION:1.0
BEGIN:VEVENT
DTSTART:20210614T140000Z
DTEND:20210614T150000Z
DCREATED:20210615T110059Z
UID:Compromisso-390ddd80b8404ff2ad861f26238c7dae
SEQUENCE:0
LAST-MODIFIED:20210615T110059Z
SUMMARY:Despachos Internos
LOCATION:Reitoria
PRIORITY:3
TRANSP:0
END:VEVENT
END:VCALENDAR
