BEGIN:VCALENDAR
PRODID:brasil.gov.agenda
VERSION:1.0
BEGIN:VEVENT
DTSTART:20210611T000000Z
DTEND:20210611T000000Z
DCREATED:20210611T172959Z
UID:Compromisso-bef2eae45fa548029710ecad8952f3f9
SEQUENCE:0
LAST-MODIFIED:20210611T172959Z
SUMMARY:Retorno de Brasília - DF
LOCATION:Em trânsito
PRIORITY:3
TRANSP:0
END:VEVENT
END:VCALENDAR
