BEGIN:VCALENDAR
PRODID:brasil.gov.agenda
VERSION:1.0
BEGIN:VEVENT
DTSTART:20210608T000000Z
DTEND:20210608T000000Z
DCREATED:20210608T131906Z
UID:Compromisso-86a8da4a64224844a75b6abae1b2ac5f
SEQUENCE:0
LAST-MODIFIED:20210608T131906Z
SUMMARY:Deslocamento para Brasília/DF
LOCATION:Em trânsito
PRIORITY:3
TRANSP:0
END:VEVENT
END:VCALENDAR
