BEGIN:VCALENDAR
PRODID:brasil.gov.agenda
VERSION:1.0
BEGIN:VEVENT
DTSTART:20210528T093000Z
DTEND:20210528T100000Z
DCREATED:20210528T111019Z
UID:Compromisso-5a31cd0134964f039be75c7f6ae33736
SEQUENCE:0
LAST-MODIFIED:20210528T111019Z
SUMMARY:Reunião com pesquisador institucional e pró-reitor
DESCRIPTION:Finalização dos Dados do Projeto Custo Aluno
LOCATION:Reitoria
PRIORITY:3
TRANSP:0
END:VEVENT
END:VCALENDAR
