BEGIN:VCALENDAR
PRODID:brasil.gov.agenda
VERSION:1.0
BEGIN:VEVENT
DTSTART:20210528T100000Z
DTEND:20210528T120000Z
DCREATED:20210531T114336Z
UID:Compromisso-a18dd408cf444ebb9702e4e8a9af8876
SEQUENCE:0
LAST-MODIFIED:20210531T114336Z
SUMMARY:Reunião com a Pró-reitoria de Graduação - TAE's e Pedagogos
DESCRIPTION:Pró-Reitoria planeja reestruturação administrativa e pe
 dagógica com objetivo de melhorar qualidade do ensino na UFVJM
LOCATION:Compromisso on-line
PRIORITY:3
TRANSP:0
END:VEVENT
END:VCALENDAR
