BEGIN:VCALENDAR
PRODID:brasil.gov.agenda
VERSION:1.0
BEGIN:VEVENT
DTSTART:20210528T080000Z
DTEND:20210528T090000Z
DCREATED:20210527T142041Z
UID:Compromisso-2a0fdc7113e942d99998d9747536f22f
SEQUENCE:0
LAST-MODIFIED:20210527T142209Z
SUMMARY:Reunião com a Pró-Reitoria de Gestão de Pessoas (PROGEP)
DESCRIPTION:Restruturação PROGEP e Novo Sistema de Registro Eletrôn
 ico com Comunicação com o SIAPE
LOCATION:Reitoria
PRIORITY:3
TRANSP:0
END:VEVENT
END:VCALENDAR
