BEGIN:VCALENDAR
PRODID:brasil.gov.agenda
VERSION:1.0
BEGIN:VEVENT
DTSTART:20210528T140000Z
DTEND:20210528T180000Z
DCREATED:20210531T114402Z
UID:Compromisso-ee8e9c02d1a24aeeb9c0d93fe459bd6e
SEQUENCE:0
LAST-MODIFIED:20210531T114402Z
SUMMARY:Despachos Internos
LOCATION:Reitoria
PRIORITY:3
TRANSP:0
END:VEVENT
END:VCALENDAR
