BEGIN:VCALENDAR
PRODID:brasil.gov.agenda
VERSION:1.0
BEGIN:VEVENT
DTSTART:20210526T160000Z
DTEND:20210526T170000Z
DCREATED:20210527T120733Z
UID:Compromisso-17d9b349c20746519f7796f8d2ceb0bd
SEQUENCE:0
LAST-MODIFIED:20210527T120907Z
SUMMARY:Reunião com Chefia de Departamento e Chefia de Laboratório
DESCRIPTION:Parceria Laboratório das Análises com a Santa Casa
LOCATION:Compromisso on-line
PRIORITY:3
TRANSP:0
END:VEVENT
END:VCALENDAR
