BEGIN:VCALENDAR
PRODID:brasil.gov.agenda
VERSION:1.0
BEGIN:VEVENT
DTSTART:20210526T083000Z
DTEND:20210526T093500Z
DCREATED:20210527T121626Z
UID:Compromisso-96264033b56c49fa889ef059fbb36cb1
SEQUENCE:0
LAST-MODIFIED:20210527T121626Z
SUMMARY:242ª reunião\, sendo a 142ª sessão em caráter ordinário do CONSU
LOCATION:Compromisso on-line
PRIORITY:3
TRANSP:0
END:VEVENT
END:VCALENDAR
