BEGIN:VCALENDAR
PRODID:brasil.gov.agenda
VERSION:1.0
BEGIN:VEVENT
DTSTART:20210525T080000Z
DTEND:20210525T100000Z
DCREATED:20210527T121948Z
UID:Compromisso-5935c77805704bb7b5d894ac56be9896
SEQUENCE:0
LAST-MODIFIED:20210527T121948Z
SUMMARY:Reunião com a Secretaria de Processo Administrativo (SecPad)
DESCRIPTION:Demandas da secretaria
LOCATION:Reitoria
PRIORITY:3
TRANSP:0
END:VEVENT
END:VCALENDAR
