BEGIN:VCALENDAR
PRODID:brasil.gov.agenda
VERSION:1.0
BEGIN:VEVENT
DTSTART:20210525T170000Z
DTEND:20210525T180000Z
DCREATED:20210527T122221Z
UID:Compromisso-5635e1578cb0435c9facefe908558f7b
SEQUENCE:0
LAST-MODIFIED:20210527T122221Z
SUMMARY:Reunião com a Pró-Reitoria de Planejamento e Orçamento
DESCRIPTION:Repressão dos Contratos\, Canalização de Recurso e Toma
 da de Decisão\;
LOCATION:Compromisso on-line
PRIORITY:3
TRANSP:0
END:VEVENT
END:VCALENDAR
