BEGIN:VCALENDAR
PRODID:brasil.gov.agenda
VERSION:1.0
BEGIN:VEVENT
DTSTART:20210524T100000Z
DTEND:20210524T110000Z
DCREATED:20210524T163002Z
UID:Compromisso-95275c6d79dd4ccf95c37cf342edbef6
SEQUENCE:0
LAST-MODIFIED:20210524T163033Z
SUMMARY:ReuniÃ£o com prÃ³-reitorias\, diretorias\, assessorias\, secretaria\, gabinete\, presidente de comissÃ£o\, autoridade de monitoramento da LAI
DESCRIPTION:EscritÃ³rio de processos: apresentaÃ§Ã£o e operacionalizaÃ
 §Ã£o
LOCATION:Compromisso on-line
PRIORITY:3
TRANSP:0
END:VEVENT
END:VCALENDAR
