BEGIN:VCALENDAR
PRODID:brasil.gov.agenda
VERSION:1.0
BEGIN:VEVENT
DTSTART:20210524T143000Z
DTEND:20210524T153000Z
DCREATED:20210524T163547Z
UID:Compromisso-cf88b848613c4d6aa3ce20fa81097e64
SEQUENCE:0
LAST-MODIFIED:20210524T163547Z
SUMMARY:Reunião com pró-reitor da Universidade de Viçosa (UFV)
DESCRIPTION:Parceria Interinstitucional
LOCATION:Compromisso on-line
PRIORITY:3
TRANSP:0
END:VEVENT
END:VCALENDAR
