BEGIN:VCALENDAR
PRODID:brasil.gov.agenda
VERSION:1.0
BEGIN:VEVENT
DTSTART:20210524T080000Z
DTEND:20210524T100000Z
DCREATED:20210524T162825Z
UID:Compromisso-dc5aca9d77f24bbd952d2f3c7182df42
SEQUENCE:0
LAST-MODIFIED:20210524T162825Z
SUMMARY:Despachos Internos
LOCATION:Reitoria
PRIORITY:3
TRANSP:0
END:VEVENT
END:VCALENDAR
