BEGIN:VCALENDAR
PRODID:brasil.gov.agenda
VERSION:1.0
BEGIN:VEVENT
DTSTART:20210524T160000Z
DTEND:20210524T180000Z
DCREATED:20210524T163623Z
UID:Compromisso-1a3ae7857eec4b5f907e784a7b3f3008
SEQUENCE:0
LAST-MODIFIED:20210524T163623Z
SUMMARY:Despachos Internos
LOCATION:Reitoria
PRIORITY:3
TRANSP:0
END:VEVENT
END:VCALENDAR
