BEGIN:VCALENDAR
PRODID:brasil.gov.agenda
VERSION:1.0
BEGIN:VEVENT
DTSTART:20210521T100000Z
DTEND:20210521T110000Z
DCREATED:20210521T134316Z
UID:Compromisso-50484ea6fe604546afdfd08696a04db2
SEQUENCE:0
LAST-MODIFIED:20210521T134316Z
SUMMARY:Reunião com Diretores
DESCRIPTION:Infraestrutura
LOCATION:Compromisso on-line
PRIORITY:3
TRANSP:0
END:VEVENT
END:VCALENDAR
