BEGIN:VCALENDAR
PRODID:brasil.gov.agenda
VERSION:1.0
BEGIN:VEVENT
DTSTART:20210521T170000Z
DTEND:20210521T180000Z
DCREATED:20210521T134842Z
UID:Compromisso-68e990ec2672423f9de6eca86fe09cb3
SEQUENCE:0
LAST-MODIFIED:20210521T134842Z
SUMMARY:Reunião com Diretores e Chefe de Divisão da PROAD
DESCRIPTION:Ambulatório da FAMED - Santa Casa
LOCATION:Reitoria
PRIORITY:3
TRANSP:0
END:VEVENT
END:VCALENDAR
