BEGIN:VCALENDAR
PRODID:brasil.gov.agenda
VERSION:1.0
BEGIN:VEVENT
DTSTART:20210520T090000Z
DTEND:20210520T100000Z
DCREATED:20210520T123648Z
UID:Compromisso-677897c6b0bf493a87bbcfb47661394e
SEQUENCE:0
LAST-MODIFIED:20210520T124206Z
SUMMARY:Reunião com pró-reitorias e diretorias
DESCRIPTION:Organização do Laboratório COVID Mucuri
LOCATION:Compromisso on-line
PRIORITY:3
TRANSP:0
END:VEVENT
END:VCALENDAR
